BEGIN:VCALENDAR
VERSION:2.0
CALSCALE:GREGORIAN
PRODID:-//Diputació de Barcelona//DibaCMS//EN
BEGIN:VEVENT
UID:5080
DTSTAMP:20260423T061824
DTSTART:20120521T000000
DTEND:20130521T000000
SUMMARY:Preinscripció a l'Institut Marina de Batxillerat i de Cicles Formatius de Grau Mitjà
LOCATION:
METHOD:PUBLISH
X-WR-CALNAME:llagosta@llagosta.cat
X-WR-TIMEZONE:Europe/Madrid
DESCRIPTION:L'Institut Marina de la Llagosta ha obert avui el període de preinscripció per a Batxillerat i per als Cicles Formatius de Grau Mitjà del proper curs 2012-2013. La preinscripció es pot realitzar fins al divendres 1 de juny.
URI:https://www.llagosta.cat/actualitat/noticies/preinscripcio-a-linstitut-marina-de-batxillerat-i-de-cicles-formatius-de-grau-mitja.html
CLASS:PUBLIC
END:VEVENT
END:VCALENDAR
