BEGIN:VCALENDAR
VERSION:2.0
CALSCALE:GREGORIAN
PRODID:-//Diputació de Barcelona//DibaCMS//EN
BEGIN:VEVENT
UID:5079
DTSTAMP:20260423T061733
DTSTART:20120521T000000
DTEND:20130521T000000
SUMMARY:Ja es poden presentar les sol·licituds per optar a beques de menjador escolar
LOCATION:
METHOD:PUBLISH
X-WR-CALNAME:llagosta@llagosta.cat
X-WR-TIMEZONE:Europe/Madrid
DESCRIPTION:El Consell Comarcal del Vallès Oriental ha obert la convocatòria de beques de menjador escolar per al curs 2012-2013. A aquests ajuts poden optar també els estudiants empadronats a la Llagosta i matriculats en centres públics o privats concertats d'educació Infantil i Primària del municipi. 
URI:https://www.llagosta.cat/actualitat/noticies/ja-es-poden-presentar-les-sollicituds-per-optar-a-beques-de-menjador-escolar.html
CLASS:PUBLIC
END:VEVENT
END:VCALENDAR
