BEGIN:VCALENDAR
VERSION:2.0
CALSCALE:GREGORIAN
PRODID:-//Diputació de Barcelona//DibaCMS//EN
BEGIN:VEVENT
UID:5078
DTSTAMP:20260423T080754
DTSTART:20120518T000000
DTEND:20130518T000000
SUMMARY:Els alumnes de quart de Primària de l'Escola Safa han visitat avui el Consistori
LOCATION:
METHOD:PUBLISH
X-WR-CALNAME:llagosta@llagosta.cat
X-WR-TIMEZONE:Europe/Madrid
DESCRIPTION:L'alcalde de la Llagosta, Alberto López, ha acompanyat aquest matí els estudiants de quart de Primària de l'Escola Sagrada Família durant la visita que han realitzat a diversos departament de l'Ajuntament. La trobada ha finalitzat al saló de plens, on López ha parlat una estona amb els alumnes. 
Veure vídeo.
Veure vídeo 2.
URI:https://www.llagosta.cat/actualitat/noticies/els-alumnes-de-quart-de-primaria-de-lescola-safa-han-visitat-avui-el-consistori.html
CLASS:PUBLIC
END:VEVENT
END:VCALENDAR
