BEGIN:VCALENDAR
VERSION:2.0
CALSCALE:GREGORIAN
PRODID:-//Diputació de Barcelona//DibaCMS//EN
BEGIN:VEVENT
UID:5077
DTSTAMP:20260422T201817
DTSTART:20120518T000000
DTEND:20130518T000000
SUMMARY:El ple de l'Ajuntament de la Llagosta va aprovar ahir el pressupost municipal de 2012
LOCATION:
METHOD:PUBLISH
X-WR-CALNAME:llagosta@llagosta.cat
X-WR-TIMEZONE:Europe/Madrid
DESCRIPTION:L'Ajuntament de la Llagosta va aprovar ahir el pressupost municipal per a aquest any 2012, que preveu un superàvit de 138.500 euros. El pressupost va ser aprovat amb el vot favorable de l'equip de govern, format per Iniciativa per Catalunya Verds–Esquerra Unida, Convergència i Unió i Ciutadans Progressistes per la Llagosta, i del Partit Popular. El Partit dels Socialistes va votar en contra.
URI:https://www.llagosta.cat/actualitat/noticies/el-ple-de-lajuntament-de-la-llagosta-va-aprovar-ahir-el-pressupost-municipal-de-2012.html
CLASS:PUBLIC
END:VEVENT
END:VCALENDAR
