BEGIN:VCALENDAR
VERSION:2.0
CALSCALE:GREGORIAN
PRODID:-//Diputació de Barcelona//DibaCMS//EN
BEGIN:VEVENT
UID:5076
DTSTAMP:20260424T074737
DTSTART:20120518T000000
DTEND:20130518T000000
SUMMARY:El Ball de Gitanes de la Llagosta, a la Ballada de menuts de Santa Perpètua de diumenge
LOCATION:
METHOD:PUBLISH
X-WR-CALNAME:llagosta@llagosta.cat
X-WR-TIMEZONE:Europe/Madrid
DESCRIPTION:La colla de petits del Grup de Ball de Gitanes de la Llagosta participarà diumenge en la Ballada de menuts de Santa Perpètua de Mogoda. Les actuacions començaran a les onze del matí a la plaça de Francesc Macià, al costat de l'Església. 
URI:https://www.llagosta.cat/actualitat/noticies/el-ball-de-gitanes-de-la-llagosta-a-la-ballada-de-menuts-de-santa-perpetua-de-diumenge.html
CLASS:PUBLIC
END:VEVENT
END:VCALENDAR
