BEGIN:VCALENDAR
VERSION:2.0
CALSCALE:GREGORIAN
PRODID:-//Diputació de Barcelona//DibaCMS//EN
BEGIN:VEVENT
UID:5075
DTSTAMP:20260422T223707
DTSTART:20120518T000000
DTEND:20130518T000000
SUMMARY:La tercera preliminar del Concurs de Cante Jondo tindrà lloc demà a l'antic Centre Cultural
LOCATION:
METHOD:PUBLISH
X-WR-CALNAME:llagosta@llagosta.cat
X-WR-TIMEZONE:Europe/Madrid
DESCRIPTION:Demà dissabte, continuarà la celebració del Concurs de Cante Jondo Ciutat de la Llagosta, organitzat per la Casa de Andalucía. Les actuacions tindran lloc a l'antic Centre Cultural del carrer de la Florida a partir de les vuit del vespre.
URI:https://www.llagosta.cat/actualitat/noticies/la-tercera-preliminar-del-concurs-de-cante-jondo-tindra-lloc-dema-a-lantic-centre-cultural.html
CLASS:PUBLIC
END:VEVENT
END:VCALENDAR
