BEGIN:VCALENDAR
VERSION:2.0
CALSCALE:GREGORIAN
PRODID:-//Diputació de Barcelona//DibaCMS//EN
BEGIN:VEVENT
UID:5074
DTSTAMP:20260424T072356
DTSTART:20120518T000000
DTEND:20130518T000000
SUMMARY:Diumenge, se celebrarà la festa de la Cruz de Mayo que organitza la Casa de Andalucía
LOCATION:
METHOD:PUBLISH
X-WR-CALNAME:llagosta@llagosta.cat
X-WR-TIMEZONE:Europe/Madrid
DESCRIPTION:La Casa de Andalucía de la Llagosta celebrarà diumenge la festa de la Cruz de Mayo. Una missa i el tradicional potaje rociero formen part de la festa d'aquest any.
La missa es farà a la una del migdia a l'Església de Sant Josep. 
URI:https://www.llagosta.cat/actualitat/noticies/diumenge-se-celebrara-la-festa-de-la-cruz-de-mayo-que-organitza-la-casa-de-andalucia.html
CLASS:PUBLIC
END:VEVENT
END:VCALENDAR
