BEGIN:VCALENDAR
VERSION:2.0
CALSCALE:GREGORIAN
PRODID:-//Diputació de Barcelona//DibaCMS//EN
BEGIN:VEVENT
UID:5073
DTSTAMP:20260423T014828
DTSTART:20120517T000000
DTEND:20130517T000000
SUMMARY:L'alcalde respon a les crítiques del PSC sobre el ple del pressupost de l'Ajuntament
LOCATION:
METHOD:PUBLISH
X-WR-CALNAME:llagosta@llagosta.cat
X-WR-TIMEZONE:Europe/Madrid
DESCRIPTION:L'alcalde de la Llagosta considera que l'equip de govern ha informat a tots els grups municipals durant el procés d'elaboració del pressupost municipal amb temps suficient perquè aquests poguessin fer les seves aportacions. Alberto López ha respost a la petició del grup municipal socialista d'ajornar el ple de pressupostos d'avui dient que la setmana passada ja van endarrerir la convocatòria de la sessió plenària a petició del PSC.
URI:https://www.llagosta.cat/actualitat/noticies/lalcalde-respon-a-les-critiques-del-psc-sobre-el-ple-del-pressupost-de-lajuntament.html
CLASS:PUBLIC
END:VEVENT
END:VCALENDAR
