BEGIN:VCALENDAR
VERSION:2.0
CALSCALE:GREGORIAN
PRODID:-//Diputació de Barcelona//DibaCMS//EN
BEGIN:VEVENT
UID:5072
DTSTAMP:20260423T135032
DTSTART:20120517T000000
DTEND:20130517T000000
SUMMARY:Aquesta tarda, se celebrarà el ple per aprovar inicialment el pressupost municipal
LOCATION:
METHOD:PUBLISH
X-WR-CALNAME:llagosta@llagosta.cat
X-WR-TIMEZONE:Europe/Madrid
DESCRIPTION:L'Ajuntament de la Llagosta celebrarà avui, a les set de la tarda, un ple extraordinari per aprovar el pressupost municipal d'aquest any 2012. L'equip de govern presentarà un pressupost desequilibrat en el qual es preveuen més ingressos que despeses.
URI:https://www.llagosta.cat/actualitat/noticies/aquesta-tarda-se-celebrara-el-ple-per-aprovar-inicialment-el-pressupost-municipal.html
CLASS:PUBLIC
END:VEVENT
END:VCALENDAR
