BEGIN:VCALENDAR
VERSION:2.0
CALSCALE:GREGORIAN
PRODID:-//Diputació de Barcelona//DibaCMS//EN
BEGIN:VEVENT
UID:5071
DTSTAMP:20260422T204236
DTSTART:20120517T000000
DTEND:20130517T000000
SUMMARY:ICV-EUiA reclama la supressió del peatge de la Llagosta, a l'autopista C-33
LOCATION:
METHOD:PUBLISH
X-WR-CALNAME:llagosta@llagosta.cat
X-WR-TIMEZONE:Europe/Madrid
DESCRIPTION:Iniciativa per Catalunya Verds-Esquerra Unida i Alternativa demana la supressió del peatge de la Llagosta, a l'autopista C-33, perquè suposa un greuge per a la ciutadania i el teixit econòmic del Baix Vallès. Així ho va dir ahir l'alcalde de la Llagosta, Alberto López, en el transcurs d'una roda de premsa d'ICV del Vallès Oriental a Granollers. 
URI:https://www.llagosta.cat/actualitat/noticies/icv-euia-reclama-la-supressio-del-peatge-de-la-llagosta-a-lautopista-c-33.html
CLASS:PUBLIC
END:VEVENT
END:VCALENDAR
