BEGIN:VCALENDAR
VERSION:2.0
CALSCALE:GREGORIAN
PRODID:-//Diputació de Barcelona//DibaCMS//EN
BEGIN:VEVENT
UID:5070
DTSTAMP:20260423T014532
DTSTART:20120517T000000
DTEND:20130517T000000
SUMMARY:Un incendi provoca danys materials al solar de l'empresa COYNSA de la Llagosta
LOCATION:
METHOD:PUBLISH
X-WR-CALNAME:llagosta@llagosta.cat
X-WR-TIMEZONE:Europe/Madrid
DESCRIPTION:Un incendi que es va declarar ahir cap a les quatre de la tarda va cremar part del material emmagatzemat per l'empresa constructora COYNSA dins d'un solar situat al carrer de Barcelona del polígon industrial de la Llagosta. El foc es va originar quan uns treballadors manipulaven una màquina i una guspira va calar el borrissol d'uns pollancres que hi havia escampat pel terra, segons ha informat aquest matí la Policia Local.
URI:https://www.llagosta.cat/actualitat/noticies/un-incendi-provoca-danys-materials-al-solar-de-lempresa-coynsa-de-la-llagosta.html
CLASS:PUBLIC
END:VEVENT
END:VCALENDAR
