BEGIN:VCALENDAR
VERSION:2.0
CALSCALE:GREGORIAN
PRODID:-//Diputació de Barcelona//DibaCMS//EN
BEGIN:VEVENT
UID:5069
DTSTAMP:20260424T021900
DTSTART:20120517T000000
DTEND:20130517T000000
SUMMARY:L'equip sènior masculí A de l'EBC acaba en darrera posició i perd la categoria
LOCATION:
METHOD:PUBLISH
X-WR-CALNAME:llagosta@llagosta.cat
X-WR-TIMEZONE:Europe/Madrid
DESCRIPTION:El sènior masculí A de l'Esportiu Bàsquet Club de la Llagosta ha acabat la lliga al grup 5 de la Tercera Catalana en darrera posició amb només dues victòries i 23 derrotes. Els llagostencs haurien de jugar ara l'eliminatòria per la permanència, però han renunciat a disputar-la i, per tant, baixaran de categoria.
URI:https://www.llagosta.cat/actualitat/noticies/lequip-senior-masculi-a-de-lebc-acaba-en-darrera-posicio-i-perd-la-categoria.html
CLASS:PUBLIC
END:VEVENT
END:VCALENDAR
