BEGIN:VCALENDAR
VERSION:2.0
CALSCALE:GREGORIAN
PRODID:-//Diputació de Barcelona//DibaCMS//EN
BEGIN:VEVENT
UID:5068
DTSTAMP:20260423T095701
DTSTART:20120517T000000
DTEND:20130517T000000
SUMMARY:Constituït el Consell de Participació Ciutadana de la Fundació Sanitària de Mollet
LOCATION:
METHOD:PUBLISH
X-WR-CALNAME:llagosta@llagosta.cat
X-WR-TIMEZONE:Europe/Madrid
DESCRIPTION:El Consell de Participació Ciutadana de la Fundació Sanitària de Mollet s'ha constituït formalment aquesta setmana en el transcurs d'un acte celebrat a l'Hospital de Mollet. Aquest òrgan assessor ha de permetre portar la veu de la ciutadania de l'àrea de referència de l'Hospital de Mollet. A més, ha de servir per assessorar, supervisar i fer un seguiment de l'activitat dels dispositius assistencials i socials que gestiona la Fundació Sanitària de Mollet. 
URI:https://www.llagosta.cat/actualitat/noticies/constituit-el-consell-de-participacio-ciutadana-de-la-fundacio-sanitaria-de-mollet.html
CLASS:PUBLIC
END:VEVENT
END:VCALENDAR
