BEGIN:VCALENDAR
VERSION:2.0
CALSCALE:GREGORIAN
PRODID:-//Diputació de Barcelona//DibaCMS//EN
BEGIN:VEVENT
UID:5067
DTSTAMP:20260422T204144
DTSTART:20120517T000000
DTEND:20130517T000000
SUMMARY:Es manté obert el termini de presentació d'obres per al Concurs de cartells de la Festa Major
LOCATION:
METHOD:PUBLISH
X-WR-CALNAME:llagosta@llagosta.cat
X-WR-TIMEZONE:Europe/Madrid
DESCRIPTION:L'Ajuntament de la Llagosta manté obert el termini de presentació d'obres per al concurs per escollir el cartell de la Festa Major 2012. El cartell guanyador s'escollirà  per votació popular. La novetat d'aquest any és que les votacions també es podran fer per Internet.
URI:https://www.llagosta.cat/actualitat/noticies/es-mante-obert-el-termini-de-presentacio-dobres-per-al-concurs-de-cartells-de-la-festa-major.html
CLASS:PUBLIC
END:VEVENT
END:VCALENDAR
