BEGIN:VCALENDAR
VERSION:2.0
CALSCALE:GREGORIAN
PRODID:-//Diputació de Barcelona//DibaCMS//EN
BEGIN:VEVENT
UID:5066
DTSTAMP:20260423T095841
DTSTART:20120516T000000
DTEND:20130516T000000
SUMMARY:El nombre d'aturats es va incrementar a la Llagosta a l'abril en 29 persones
LOCATION:
METHOD:PUBLISH
X-WR-CALNAME:llagosta@llagosta.cat
X-WR-TIMEZONE:Europe/Madrid
DESCRIPTION:L'atur a la Llagosta continua incrementant-se. A l'abril ho va fer en 29 persones. Així, a 30 d'abril, hi havia registrats a l'Oficina de Treball de la Generalitat 1.532 llagostencs, un 20,97% de la població activa. 
URI:https://www.llagosta.cat/actualitat/noticies/el-nombre-daturats-es-va-incrementar-a-la-llagosta-a-labril-en-29-persones.html
CLASS:PUBLIC
END:VEVENT
END:VCALENDAR
