BEGIN:VCALENDAR
VERSION:2.0
CALSCALE:GREGORIAN
PRODID:-//Diputació de Barcelona//DibaCMS//EN
BEGIN:VEVENT
UID:5065
DTSTAMP:20260423T080128
DTSTART:20120516T000000
DTEND:20130516T000000
SUMMARY:El PSC demana un ajornament del ple de pressupost, però la sessió es farà demà
LOCATION:
METHOD:PUBLISH
X-WR-CALNAME:llagosta@llagosta.cat
X-WR-TIMEZONE:Europe/Madrid
DESCRIPTION:El grup municipal del Partit dels Socialistes ha demanat a l'equip de govern que s'ajorni uns dies el ple d'aprovació inicial del pressupost de l'Ajuntament de la Llagosta previst per a demà. Els socialistes asseguren que han detectat alguns aspectes molt significants que afecten a l'estructura del pressupost que s'haurien de rectificar abans de la seva aprovació. El ple se celebrarà demà a partir de les set de la tarda.
URI:https://www.llagosta.cat/actualitat/noticies/el-psc-demana-un-ajornament-del-ple-de-pressupost-pero-la-sessio-es-fara-dema.html
CLASS:PUBLIC
END:VEVENT
END:VCALENDAR
