BEGIN:VCALENDAR
VERSION:2.0
CALSCALE:GREGORIAN
PRODID:-//Diputació de Barcelona//DibaCMS//EN
BEGIN:VEVENT
UID:5063
DTSTAMP:20260423T150446
DTSTART:20120516T000000
DTEND:20130516T000000
SUMMARY:La Concòrdia goleja el Castellbisbal i ja treu catorze punts de diferència al segon classificat
LOCATION:
METHOD:PUBLISH
X-WR-CALNAME:llagosta@llagosta.cat
X-WR-TIMEZONE:Europe/Madrid
DESCRIPTION:El primer equip del Club Deportivo La Concòrdia va guanyar dissabte per 4 a 1 el Castellbisbal en un partit que va servir per celebrar amb la seva afició el recentment aconseguit títol de lliga. Les de la Llagosta van començar perdent contra el segon classificat, però van reaccionar i li van donar la volta al marcador amb dos gols de Cintia, un de Mireia i un altre d'Estefa. 
URI:https://www.llagosta.cat/actualitat/noticies/la-concordia-goleja-el-castellbisbal-i-ja-treu-catorze-punts-de-diferencia-al-segon-classificat.html
CLASS:PUBLIC
END:VEVENT
END:VCALENDAR
