BEGIN:VCALENDAR
VERSION:2.0
CALSCALE:GREGORIAN
PRODID:-//Diputació de Barcelona//DibaCMS//EN
BEGIN:VEVENT
UID:5062
DTSTAMP:20260423T113935
DTSTART:20120516T000000
DTEND:20130516T000000
SUMMARY:Un equip de la Llagosta jugarà dissabte la fase final Territorial dels Jocs Escolars de Catalunya
LOCATION:
METHOD:PUBLISH
X-WR-CALNAME:llagosta@llagosta.cat
X-WR-TIMEZONE:Europe/Madrid
DESCRIPTION:L'equip infantil masculí de bàsquet de l'Escola d'Iniciació Esportiva de la Llagosta disputarà dissabte la fase final Territorial dels Jocs Esportius Escolars de Catalunya. La competició tindrà lloc al Poliesportiu Fòrum La Mina de Sant Adrià de Besòs.
URI:https://www.llagosta.cat/actualitat/noticies/un-equip-de-la-llagosta-jugara-dissabte-la-fase-final-territorial-dels-jocs-escolars-de-catalunya.html
CLASS:PUBLIC
END:VEVENT
END:VCALENDAR
