BEGIN:VCALENDAR
VERSION:2.0
CALSCALE:GREGORIAN
PRODID:-//Diputació de Barcelona//DibaCMS//EN
BEGIN:VEVENT
UID:5061
DTSTAMP:20260423T165600
DTSTART:20120515T000000
DTEND:20130515T000000
SUMMARY:La Llagosta va acollir el cap de setmana diversos actes sobre la fibromiàlgia
LOCATION:
METHOD:PUBLISH
X-WR-CALNAME:llagosta@llagosta.cat
X-WR-TIMEZONE:Europe/Madrid
DESCRIPTION:La caminada reivindicativa i la lectura del manifest del Dia Mundial de la Fibromiàlgia i la Síndrome de Fatiga Crònica que es va fer diumenge a la Llagosta van comptar amb molt poca assistència. L'activitat, organitzada per l'Associació de Fibromiàlgia de Mollet i Comarca (AFIMOIC) formava part de la programació commemorativa d'aquesta jornada.
URI:https://www.llagosta.cat/actualitat/noticies/la-llagosta-va-acollir-el-cap-de-setmana-diversos-actes-sobre-la-fibromialgia.html
CLASS:PUBLIC
END:VEVENT
END:VCALENDAR
