BEGIN:VCALENDAR
VERSION:2.0
CALSCALE:GREGORIAN
PRODID:-//Diputació de Barcelona//DibaCMS//EN
BEGIN:VEVENT
UID:5060
DTSTAMP:20260423T170226
DTSTART:20120515T000000
DTEND:20130514T000000
SUMMARY:La trobada d'esplais de dissabte va aplegar més de 150 participants dissabte a la Llagosta
LOCATION:
METHOD:PUBLISH
X-WR-CALNAME:llagosta@llagosta.cat
X-WR-TIMEZONE:Europe/Madrid
DESCRIPTION:Més de 150 infants i joves d'esplais de la nostra comarca van participar dissabte a la Trobada d'Infants i Joves (TIJO) del Vallès Oriental. Aquesta activitat va ser organitzada pel Racó d'Esplai Sant Josep. 
URI:https://www.llagosta.cat/actualitat/noticies/la-trobada-desplais-de-dissabte-va-aplegar-mes-de-150-participants-dissabte-a-la-llagosta.html
CLASS:PUBLIC
END:VEVENT
END:VCALENDAR
