BEGIN:VCALENDAR
VERSION:2.0
CALSCALE:GREGORIAN
PRODID:-//Diputació de Barcelona//DibaCMS//EN
BEGIN:VEVENT
UID:5059
DTSTAMP:20260423T150400
DTSTART:20120515T000000
DTEND:20130515T000000
SUMMARY:El Consistori llagostenc estudia l'opció de formar part de la mancomunitat El Galzeran
LOCATION:
METHOD:PUBLISH
X-WR-CALNAME:llagosta@llagosta.cat
X-WR-TIMEZONE:Europe/Madrid
DESCRIPTION:L'Ajuntament de la Llagosta està estudiant la possibilitat d'integrar-se en la mancomunitat El Galzeran, que ara formen Martorelles, Sant Fost de Campsentelles i Santa Maria de Martorelles. El Consistori llagostenc veu amb bons ulls aquesta opció ja que permetria mantenir els serveis actuals a la ciutadania amb un estalvi de les despeses. 
URI:https://www.llagosta.cat/actualitat/noticies/el-consistori-llagostenc-estudia-lopcio-de-formar-part-de-la-mancomunitat-el-galzeran.html
CLASS:PUBLIC
END:VEVENT
END:VCALENDAR
