BEGIN:VCALENDAR
VERSION:2.0
CALSCALE:GREGORIAN
PRODID:-//Diputació de Barcelona//DibaCMS//EN
BEGIN:VEVENT
UID:5058
DTSTAMP:20260423T114032
DTSTART:20120515T000000
DTEND:20130515T000000
SUMMARY:La Unión Llagostense organitzarà un torneig de 24 hores de futbol sala el mes de juliol
LOCATION:
METHOD:PUBLISH
X-WR-CALNAME:llagosta@llagosta.cat
X-WR-TIMEZONE:Europe/Madrid
DESCRIPTION:El Fútbol Sala Unión Llagostense organitzarà aquest estiu un torneig de 24 hores. La competició es disputarà els dies 7 i 8 de juliol al Poliesportiu de la Riera Seca. L'entitat ha obert el període d'inscripcions per participar en aquest torneig. Els interessats han de trucar al telèfon 637 23 69 25. 
URI:https://www.llagosta.cat/actualitat/noticies/la-union-llagostense-organitzara-un-torneig-de-24-hores-de-futbol-sala-el-mes-de-juliol.html
CLASS:PUBLIC
END:VEVENT
END:VCALENDAR
