BEGIN:VCALENDAR
VERSION:2.0
CALSCALE:GREGORIAN
PRODID:-//Diputació de Barcelona//DibaCMS//EN
BEGIN:VEVENT
UID:5057
DTSTAMP:20260423T150431
DTSTART:20120514T000000
DTEND:20130514T000000
SUMMARY:De l'1 al 10 de juny, l'Ajuntament organitzarà la primera Setmana del Teatre de la Llagosta
LOCATION:
METHOD:PUBLISH
X-WR-CALNAME:llagosta@llagosta.cat
X-WR-TIMEZONE:Europe/Madrid
DESCRIPTION:L'Ajuntament de la Llagosta i els grups de teatre locals Nanocosmos i Tell organitzaran de l'1 al 10 de juny la primera Setmana del Teatre de la nostra localitat. Aquesta iniciativa combinarà espectacles professionals, amb representacions de grups teatrals llagostencs i la realització d'altres activitats, com tallers, mostres i taules rodones.
URI:https://www.llagosta.cat/actualitat/noticies/de-l1-al-10-de-juny-lajuntament-organitzara-la-primera-setmana-del-teatre-de-la-llagosta.html
CLASS:PUBLIC
END:VEVENT
END:VCALENDAR
