BEGIN:VCALENDAR
VERSION:2.0
CALSCALE:GREGORIAN
PRODID:-//Diputació de Barcelona//DibaCMS//EN
BEGIN:VEVENT
UID:5056
DTSTAMP:20260423T134303
DTSTART:20120514T000000
DTEND:20130514T000000
SUMMARY:Inaugurada la nova seu de l'Asociación Rociera Andaluza de la Llagosta 
LOCATION:
METHOD:PUBLISH
X-WR-CALNAME:llagosta@llagosta.cat
X-WR-TIMEZONE:Europe/Madrid
DESCRIPTION:L'Asociación Rociera Andaluza de la Llagosta va inaugurar dissabte la nova seu de l'entitat. Més de 200 persones van assistir a l'acte. El local dels rocieros està situat al número sis del carrer de Girona. 
URI:https://www.llagosta.cat/actualitat/noticies/inaugurada-la-nova-seu-de-lasociacion-rociera-andaluza-de-la-llagosta-.html
CLASS:PUBLIC
END:VEVENT
END:VCALENDAR
