BEGIN:VCALENDAR
VERSION:2.0
CALSCALE:GREGORIAN
PRODID:-//Diputació de Barcelona//DibaCMS//EN
BEGIN:VEVENT
UID:5055
DTSTAMP:20260423T152210
DTSTART:20120514T000000
DTEND:20130514T000000
SUMMARY:El Viejas Glorias guanya a Santa Perpètua per 0 a 1 amb un gol de penal de Muñoz
LOCATION:
METHOD:PUBLISH
X-WR-CALNAME:llagosta@llagosta.cat
X-WR-TIMEZONE:Europe/Madrid
DESCRIPTION:El Club Deportivo Viejas Glorias va guanyar dissabte per 0 a 1 al camp del Santa Perpètua i va posar punt final a una ratxa de tres derrotes seguides. Els llagostencs van fer un bon partit davant del segon classificat.
URI:https://www.llagosta.cat/actualitat/noticies/el-viejas-glorias-guanya-a-santa-perpetua-per-0-a-1-amb-un-gol-de-penal-de-munoz.html
CLASS:PUBLIC
END:VEVENT
END:VCALENDAR
