BEGIN:VCALENDAR
VERSION:2.0
CALSCALE:GREGORIAN
PRODID:-//Diputació de Barcelona//DibaCMS//EN
BEGIN:VEVENT
UID:5054
DTSTAMP:20260423T101527
DTSTART:20120511T000000
DTEND:20130511T000000
SUMMARY:Amics de la cultura representarà demà dos sainets al Centre Cultural de la Llagosta
LOCATION:
METHOD:PUBLISH
X-WR-CALNAME:llagosta@llagosta.cat
X-WR-TIMEZONE:Europe/Madrid
DESCRIPTION:El Centre Cultural de la Llagosta acollirà demà una nova representació del grup local Amics de la cultura. En aquesta ocasió portaran dos sainets a escena, En busca de trabajo, jo, jo, jo i El sardinero infiel.
URI:https://www.llagosta.cat/actualitat/noticies/amics-de-la-cultura-representara-dema-dos-sainets-al-centre-cultural-de-la-llagosta.html
CLASS:PUBLIC
END:VEVENT
END:VCALENDAR
