BEGIN:VCALENDAR
VERSION:2.0
CALSCALE:GREGORIAN
PRODID:-//Diputació de Barcelona//DibaCMS//EN
BEGIN:VEVENT
UID:5053
DTSTAMP:20260424T015903
DTSTART:20120511T000000
DTEND:20130511T000000
SUMMARY:El sènior del Vallag es proclama campió de lliga a falta de dues jornades
LOCATION:
METHOD:PUBLISH
X-WR-CALNAME:llagosta@llagosta.cat
X-WR-TIMEZONE:Europe/Madrid
DESCRIPTION:Quan encara falten dos partits per finalitzar la competició, el sènior de l'Handbol Club Vallag s'ha proclamat campió de lliga de la Tercera Preferent Catalana. Els llagostencs arrodoneixen així una molt bona temporada, després d'assegurar-se l'ascens a Segona dues jornades abans. 
URI:https://www.llagosta.cat/actualitat/noticies/el-senior-del-vallag-es-proclama-campio-de-lliga-a-falta-de-dues-jornades.html
CLASS:PUBLIC
END:VEVENT
END:VCALENDAR
