BEGIN:VCALENDAR
VERSION:2.0
CALSCALE:GREGORIAN
PRODID:-//Diputació de Barcelona//DibaCMS//EN
BEGIN:VEVENT
UID:5052
DTSTAMP:20260423T113645
DTSTART:20120511T000000
DTEND:20130511T000000
SUMMARY:La Trobada d'Infants i Joves del Vallès Oriental tindrà lloc demà a la Llagosta
LOCATION:
METHOD:PUBLISH
X-WR-CALNAME:llagosta@llagosta.cat
X-WR-TIMEZONE:Europe/Madrid
DESCRIPTION:La Llagosta acollirà demà la Trobada d'Infants i Joves (TIJO) del Vallès Oriental. Aquesta activitat està organitzada pel Racó d'Esplai Sant Josep i la resta d'esplais vallesans del Moviment de Centres d'Esplais Cristians.
URI:https://www.llagosta.cat/actualitat/noticies/la-trobada-dinfants-i-joves-del-valles-oriental-tindra-lloc-dema-a-la-llagosta.html
CLASS:PUBLIC
END:VEVENT
END:VCALENDAR
