BEGIN:VCALENDAR
VERSION:2.0
CALSCALE:GREGORIAN
PRODID:-//Diputació de Barcelona//DibaCMS//EN
BEGIN:VEVENT
UID:5051
DTSTAMP:20260423T164811
DTSTART:20120511T000000
DTEND:20130511T000000
SUMMARY:La Plataforma d'Afectats de la Llagosta ha fet aquest matí un acte per evitar un desnonament
LOCATION:
METHOD:PUBLISH
X-WR-CALNAME:llagosta@llagosta.cat
X-WR-TIMEZONE:Europe/Madrid
DESCRIPTION:La Plataforma d'Afectats per la Hipoteca de la Llagosta ha aprofitat aquest matí el pas de la marxa vallesana del 12-M per demanar a Bankia que aturi definitivament el desnonament d'una família al barri de Can Folguera de Santa Perpètua. La Plataforma i els afectats han lliurat una petició als responsables de l'oficina d'aquesta entitat bancària a la Llagosta, que és la que va concedir el préstec.
URI:https://www.llagosta.cat/actualitat/noticies/la-plataforma-dafectats-de-la-llagosta-ha-fet-aquest-mati-un-acte-per-evitar-un-desnonament.html
CLASS:PUBLIC
END:VEVENT
END:VCALENDAR
