BEGIN:VCALENDAR
VERSION:2.0
CALSCALE:GREGORIAN
PRODID:-//Diputació de Barcelona//DibaCMS//EN
BEGIN:VEVENT
UID:5050
DTSTAMP:20260423T115623
DTSTART:20120511T000000
DTEND:20130511T000000
SUMMARY:La Llagosta acull el cap de setmana actes sobre la fibromiàlgia i la síndrome de fatiga crònica
LOCATION:
METHOD:PUBLISH
X-WR-CALNAME:llagosta@llagosta.cat
X-WR-TIMEZONE:Europe/Madrid
DESCRIPTION:Demà, és el Dia Mundial de la Fibromiàlgia i la Síndrome de Fatiga Crònica. A la Llagosta, durant el cap de setmana, es realitzaran diverses activitats per sensibilitzar la població sobre aquestes malalties.
URI:https://www.llagosta.cat/actualitat/noticies/la-llagosta-acull-el-cap-de-setmana-actes-sobre-la-fibromialgia-i-la-sindrome-de-fatiga-cronica.html
CLASS:PUBLIC
END:VEVENT
END:VCALENDAR
