BEGIN:VCALENDAR
VERSION:2.0
CALSCALE:GREGORIAN
PRODID:-//Diputació de Barcelona//DibaCMS//EN
BEGIN:VEVENT
UID:5049
DTSTAMP:20260423T080029
DTSTART:20120511T000000
DTEND:20130511T000000
SUMMARY:L'Asociación Rociera Andaluza inaugurarà el seu local i celebrarà la Cruz de Mayo
LOCATION:
METHOD:PUBLISH
X-WR-CALNAME:llagosta@llagosta.cat
X-WR-TIMEZONE:Europe/Madrid
DESCRIPTION:L'Asociación Rociera Andaluza de la Llagosta aprofitarà la celebració de la Cruz de Mayo d'aquest cap de setmana per inaugurar la seva nova seu. El local que a partir d'ara acollirà l'entitat es troba al número sis del carrer de Girona.
URI:https://www.llagosta.cat/actualitat/noticies/lasociacion-rociera-andaluza-inaugurara-el-seu-local-i-celebrara-la-cruz-de-mayo.html
CLASS:PUBLIC
END:VEVENT
END:VCALENDAR
