BEGIN:VCALENDAR
VERSION:2.0
CALSCALE:GREGORIAN
PRODID:-//Diputació de Barcelona//DibaCMS//EN
BEGIN:VEVENT
UID:5048
DTSTAMP:20260424T035828
DTSTART:20120511T000000
DTEND:20130511T000000
SUMMARY:Presentat l'estudi de viabilitat de la nova Escola Sagrada Família de la Llagosta
LOCATION:
METHOD:PUBLISH
X-WR-CALNAME:llagosta@llagosta.cat
X-WR-TIMEZONE:Europe/Madrid
DESCRIPTION:L'Ajuntament de la Llagosta i el Departament d'Ensenyament de la Generalitat han presentat avui l'estudi de viabilitat de la que seria la nova Escola Sagrada Família de la nostra localitat. Es tracta d'un primer pas de cara a la construcció d'aquest centre educatiu. La data d'execució de les obres d'aquest equipament dependrà de la situació econòmica i de les prioritats que fixi la Generalitat. 
URI:https://www.llagosta.cat/actualitat/noticies/presentat-lestudi-de-viabilitat-de-la-nova-escola-sagrada-familia-de-la-llagosta.html
CLASS:PUBLIC
END:VEVENT
END:VCALENDAR
