BEGIN:VCALENDAR
VERSION:2.0
CALSCALE:GREGORIAN
PRODID:-//Diputació de Barcelona//DibaCMS//EN
BEGIN:VEVENT
UID:5047
DTSTAMP:20260423T201754
DTSTART:20120511T000000
DTEND:20130511T000000
SUMMARY:Les dues colles del Grup de Ball de Gitanes de la Llagosta actuaran diumenge a Cerdanyola
LOCATION:
METHOD:PUBLISH
X-WR-CALNAME:llagosta@llagosta.cat
X-WR-TIMEZONE:Europe/Madrid
DESCRIPTION:El Grup de Ball de Gitanes de la Llagosta actuarà diumenge en una trobada que tindrà lloc a Cerdanyola amb l'organització dels Antics Dansaires de Cerdanyola. Hi aniran la colla de grans i la de petits de la nostra localitat. 
URI:https://www.llagosta.cat/actualitat/noticies/les-dues-colles-del-grup-de-ball-de-gitanes-de-la-llagosta-actuaran-diumenge-a-cerdanyola.html
CLASS:PUBLIC
END:VEVENT
END:VCALENDAR
