BEGIN:VCALENDAR
VERSION:2.0
CALSCALE:GREGORIAN
PRODID:-//Diputació de Barcelona//DibaCMS//EN
BEGIN:VEVENT
UID:5046
DTSTAMP:20260422T165758
DTSTART:20120511T000000
DTEND:20130512T000000
SUMMARY:El Parc Popular acollirà demà una trobada social del Club Petanca La Llagosta
LOCATION:
METHOD:PUBLISH
X-WR-CALNAME:llagosta@llagosta.cat
X-WR-TIMEZONE:Europe/Madrid
DESCRIPTION:El Club Petanca La Llagosta organitzarà demà una trobada social al Parc Popular. L'acte consistirà en un dinar adreçat a socis i jugadors de l'entitat. Unes 70 persones hi assistiran.
URI:https://www.llagosta.cat/actualitat/noticies/el-parc-popular-acollira-dema-una-trobada-social-del-club-petanca-la-llagosta.html
CLASS:PUBLIC
END:VEVENT
END:VCALENDAR
