BEGIN:VCALENDAR
VERSION:2.0
CALSCALE:GREGORIAN
PRODID:-//Diputació de Barcelona//DibaCMS//EN
BEGIN:VEVENT
UID:5045
DTSTAMP:20260422T144155
DTSTART:20120511T000000
DTEND:20130511T000000
SUMMARY:Estudiants de l'Escola Gilpe participaran dilluns en l'English Day a Montornès del Vallès
LOCATION:
METHOD:PUBLISH
X-WR-CALNAME:llagosta@llagosta.cat
X-WR-TIMEZONE:Europe/Madrid
DESCRIPTION:Els alumnes de quart de Primària de l'Escola Gilpe participaran dilluns en la segona edició de l'English Day, una activitat d'intercanvi d'experiències entre estudiants i mestres de diferents centres educatius amb l'anglès com a llengua de comunicació. En aquesta ocasió, la cita tindrà lloc a l'Escola Mogent de Montornès del Vallès. 
URI:https://www.llagosta.cat/actualitat/noticies/estudiants-de-lescola-gilpe-participaran-dilluns-en-lenglish-day-a-montornes-del-valles.html
CLASS:PUBLIC
END:VEVENT
END:VCALENDAR
