BEGIN:VCALENDAR
VERSION:2.0
CALSCALE:GREGORIAN
PRODID:-//Diputació de Barcelona//DibaCMS//EN
BEGIN:VEVENT
UID:5044
DTSTAMP:20260422T190338
DTSTART:20120511T000000
DTEND:20130512T000000
SUMMARY:La segona preliminar del Concurs de cante jondo, se celebra demà a l'antic Centre Cultural
LOCATION:
METHOD:PUBLISH
X-WR-CALNAME:llagosta@llagosta.cat
X-WR-TIMEZONE:Europe/Madrid
DESCRIPTION:Demà dissabte, se celebrarà a l'antic Centre Cultural del carrer de la Florida la segona preliminar del Concurs de cante jondo Ciutat de la Llagosta, organitzat per la Casa de Andalucia. Les actuacions començaran a les vuit del vespre.
URI:https://www.llagosta.cat/actualitat/noticies/la-segona-preliminar-del-concurs-de-cante-jondo-se-celebra-dema-a-lantic-centre-cultural.html
CLASS:PUBLIC
END:VEVENT
END:VCALENDAR
