BEGIN:VCALENDAR
VERSION:2.0
CALSCALE:GREGORIAN
PRODID:-//Diputació de Barcelona//DibaCMS//EN
BEGIN:VEVENT
UID:5043
DTSTAMP:20260422T203706
DTSTART:20120510T000000
DTEND:20130510T000000
SUMMARY:L'Institut Català de la Salut recomana l'ús del 061, el telèfon d'urgències mèdiques
LOCATION:
METHOD:PUBLISH
X-WR-CALNAME:llagosta@llagosta.cat
X-WR-TIMEZONE:Europe/Madrid
DESCRIPTION:L'Institut Català de la Salut recomana a la ciutadania de la Llagosta l'ús del número de telèfon 061 en cas d'urgències mèdiques. Des de fa uns dies, el Punt d'Atenció Continua de la nostra localitat informa als usuaris que, abans d'apropar-se a les urgències de l'ambulatori, facin ús d'aquest servei telefònic.
URI:https://www.llagosta.cat/actualitat/noticies/linstitut-catala-de-la-salut-recomana-lus-del-061-el-telefon-durgencies-mediques.html
CLASS:PUBLIC
END:VEVENT
END:VCALENDAR
