BEGIN:VCALENDAR
VERSION:2.0
CALSCALE:GREGORIAN
PRODID:-//Diputació de Barcelona//DibaCMS//EN
BEGIN:VEVENT
UID:5042
DTSTAMP:20260423T150519
DTSTART:20120510T000000
DTEND:20130510T000000
SUMMARY:L'Ajuntament aprova el projecte d'urbanització de la plaça de la Concòrdia 
LOCATION:
METHOD:PUBLISH
X-WR-CALNAME:llagosta@llagosta.cat
X-WR-TIMEZONE:Europe/Madrid
DESCRIPTION:La Junta de Govern Local de l'Ajuntament de la Llagosta ha aprovat el projecte d'urbanització de la plaça de la Concòrdia. Aquesta obra està pressuposta en uns 600.000 euros. 
URI:https://www.llagosta.cat/actualitat/noticies/lajuntament-aprova-el-projecte-durbanitzacio-de-la-placa-de-la-concordia-.html
CLASS:PUBLIC
END:VEVENT
END:VCALENDAR
