BEGIN:VCALENDAR
VERSION:2.0
CALSCALE:GREGORIAN
PRODID:-//Diputació de Barcelona//DibaCMS//EN
BEGIN:VEVENT
UID:5041
DTSTAMP:20260422T163913
DTSTART:20120510T000000
DTEND:20130510T000000
SUMMARY:Balanç positiu de les setenes Jornades de música i cant coral de la Coral Miranda
LOCATION:
METHOD:PUBLISH
X-WR-CALNAME:llagosta@llagosta.cat
X-WR-TIMEZONE:Europe/Madrid
DESCRIPTION:La Coral Miranda de la Llagosta ha fet un balanç positiu de les setenes Jornades de música i cant coral. Un total de sis formacions han pres part aquest any als recitals d'aquestes jornades organitzades per l'entitat.
URI:https://www.llagosta.cat/actualitat/noticies/balanc-positiu-de-les-setenes-jornades-de-musica-i-cant-coral-de-la-coral-miranda.html
CLASS:PUBLIC
END:VEVENT
END:VCALENDAR
