BEGIN:VCALENDAR
VERSION:2.0
CALSCALE:GREGORIAN
PRODID:-//Diputació de Barcelona//DibaCMS//EN
BEGIN:VEVENT
UID:5040
DTSTAMP:20260422T180633
DTSTART:20120510T000000
DTEND:20130510T000000
SUMMARY:L'Escola Gilpe, protagonista de l'espai infantil Quitxalla a la televisió Vallès Visió
LOCATION:
METHOD:PUBLISH
X-WR-CALNAME:llagosta@llagosta.cat
X-WR-TIMEZONE:Europe/Madrid
DESCRIPTION:Els alumnes de l'Escola Gilpe són els protagonistes durant aquests dies del programa infantil Quitxalla, que emet Vallès Visió. L'espai es pot veure cada dia a les 18.55 hores i, en redifusió, l'endemà a les 13.20 hores i durant el cap de setmana. 
URI:https://www.llagosta.cat/actualitat/noticies/lescola-gilpe-protagonista-de-lespai-infantil-quitxalla-a-la-televisio-valles-visio.html
CLASS:PUBLIC
END:VEVENT
END:VCALENDAR
