BEGIN:VCALENDAR
VERSION:2.0
CALSCALE:GREGORIAN
PRODID:-//Diputació de Barcelona//DibaCMS//EN
BEGIN:VEVENT
UID:5039
DTSTAMP:20260422T190420
DTSTART:20120510T000000
DTEND:20130510T000000
SUMMARY:L'equip sènior masculí A de l'EBC La Llagosta cau a casa contra la Salle Bonanova (46-94)
LOCATION:
METHOD:PUBLISH
X-WR-CALNAME:llagosta@llagosta.cat
X-WR-TIMEZONE:Europe/Madrid
DESCRIPTION:El sènior masculí A de l'Esportiu Bàsquet Club de la Llagosta va perdre el cap de setmana passat contra la Salle Bonanova per 46 a 94. Els llagostencs no van tenir cap opció davant del quart classificat del grup.
URI:https://www.llagosta.cat/actualitat/noticies/lequip-senior-masculi-a-de-lebc-la-llagosta-cau-a-casa-contra-la-salle-bonanova-46-94.html
CLASS:PUBLIC
END:VEVENT
END:VCALENDAR
