BEGIN:VCALENDAR
VERSION:2.0
CALSCALE:GREGORIAN
PRODID:-//Diputació de Barcelona//DibaCMS//EN
BEGIN:VEVENT
UID:5038
DTSTAMP:20260423T205407
DTSTART:20120509T000000
DTEND:20130509T000000
SUMMARY:L'equip de govern va presentar el pressupost municipal davant d'uns 40 ciutadans
LOCATION:
METHOD:PUBLISH
X-WR-CALNAME:llagosta@llagosta.cat
X-WR-TIMEZONE:Europe/Madrid
DESCRIPTION:La proposta de pressupost municipal per a aquest any preveu uns ingressos de poc més de 9.900.000 euros i unes despeses d'uns 9.776.000 euros. Aquestes dades van ser presentades ahir durant l'acte organitzat per l'equip de govern per donar a conèixer els números previstos per al 2012.
URI:https://www.llagosta.cat/actualitat/noticies/lequip-de-govern-va-presentar-el-pressupost-municipal-davant-duns-40-ciutadans.html
CLASS:PUBLIC
END:VEVENT
END:VCALENDAR
