BEGIN:VCALENDAR
VERSION:2.0
CALSCALE:GREGORIAN
PRODID:-//Diputació de Barcelona//DibaCMS//EN
BEGIN:VEVENT
UID:5037
DTSTAMP:20260422T111318
DTSTART:20120509T000000
DTEND:20130509T000000
SUMMARY:Una exposició, al Centre Cultural sobre el Concurs de fotografia del Dia de la dona
LOCATION:
METHOD:PUBLISH
X-WR-CALNAME:llagosta@llagosta.cat
X-WR-TIMEZONE:Europe/Madrid
DESCRIPTION:El Centre Cultural acull des d'avui l'exposició del 19è Concurs de fotografia del Dia internacional de la dona, organitzat pel Foto-Club la Llagosta. La mostra es podrà veure fins al 31 de maig al vestíbul d'aquest equipament.
URI:https://www.llagosta.cat/actualitat/noticies/una-exposicio-al-centre-cultural-sobre-el-concurs-de-fotografia-del-dia-de-la-dona.html
CLASS:PUBLIC
END:VEVENT
END:VCALENDAR
