BEGIN:VCALENDAR
VERSION:2.0
CALSCALE:GREGORIAN
PRODID:-//Diputació de Barcelona//DibaCMS//EN
BEGIN:VEVENT
UID:5036
DTSTAMP:20260422T204025
DTSTART:20120509T000000
DTEND:20130509T000000
SUMMARY:Recollida de firmes del PSC de la Llagosta en contra de les retallades a les escoles bressol
LOCATION:
METHOD:PUBLISH
X-WR-CALNAME:llagosta@llagosta.cat
X-WR-TIMEZONE:Europe/Madrid
DESCRIPTION:El Partit dels Socialistes de la Llagosta portarà a terme durant aquest mes de maig una campanya de recollida de firmes contra les retallades de la Generalitat a les escoles bressol. Els socialistes recorden que el Departament d'Ensenyament de la Generalitat ha manifestat la seva voluntat de rebaixar les aportacions a les guarderies, tot i que encara no ha fixat la quantitat per al proper curs.  
URI:https://www.llagosta.cat/actualitat/noticies/recollida-de-firmes-del-psc-de-la-llagosta-en-contra-de-les-retallades-a-les-escoles-bressol.html
CLASS:PUBLIC
END:VEVENT
END:VCALENDAR
