BEGIN:VCALENDAR
VERSION:2.0
CALSCALE:GREGORIAN
PRODID:-//Diputació de Barcelona//DibaCMS//EN
BEGIN:VEVENT
UID:5035
DTSTAMP:20260422T112603
DTSTART:20120509T000000
DTEND:20130509T000000
SUMMARY:L'Entidad Dominó La Llagosta organitzarà el Dia del soci el 26 de maig
LOCATION:
METHOD:PUBLISH
X-WR-CALNAME:llagosta@llagosta.cat
X-WR-TIMEZONE:Europe/Madrid
DESCRIPTION:L'Entidad Dominó La Llagosta està preparant el Dia del soci, que se celebrarà el dissabte 26 de maig. Aquesta activitat arriba després de la celebració de les diferents competicions que organitza l'entitat, entre elles la lliga.
URI:https://www.llagosta.cat/actualitat/noticies/lentidad-domino-la-llagosta-organitzara-el-dia-del-soci-el-26-de-maig.html
CLASS:PUBLIC
END:VEVENT
END:VCALENDAR
