BEGIN:VCALENDAR
VERSION:2.0
CALSCALE:GREGORIAN
PRODID:-//Diputació de Barcelona//DibaCMS//EN
BEGIN:VEVENT
UID:5034
DTSTAMP:20260423T022029
DTSTART:20120509T000000
DTEND:20130509T000000
SUMMARY:Un conjunt de les Escoles d'Iniciació Esportiva de la Llagosta, a la fase final de sector
LOCATION:
METHOD:PUBLISH
X-WR-CALNAME:llagosta@llagosta.cat
X-WR-TIMEZONE:Europe/Madrid
DESCRIPTION:L'equip infantil masculí de bàsquet de les Escoles d'Iniciació Esportiva de la Llagosta s'ha classificat per disputar la fase final de sector dels Jocs Escolars Esportius de Catalunya. La competició tindrà lloc el 19 de maig.
URI:https://www.llagosta.cat/actualitat/noticies/un-conjunt-de-les-escoles-diniciacio-esportiva-de-la-llagosta-a-la-fase-final-de-sector.html
CLASS:PUBLIC
END:VEVENT
END:VCALENDAR
