BEGIN:VCALENDAR
VERSION:2.0
CALSCALE:GREGORIAN
PRODID:-//Diputació de Barcelona//DibaCMS//EN
BEGIN:VEVENT
UID:5033
DTSTAMP:20260422T215954
DTSTART:20120509T000000
DTEND:20130509T000000
SUMMARY:La Unión Llagostense acaba la lliga amb un sisè lloc a la Divisió d'Honor
LOCATION:
METHOD:PUBLISH
X-WR-CALNAME:llagosta@llagosta.cat
X-WR-TIMEZONE:Europe/Madrid
DESCRIPTION:El Fútbol Sala Unión Llagostense ha acabat la lliga a la Divisió d'Honor en sisena posició amb 49 punts. El cap de setmana passat, el partit que havia de jugar a casa no es va disputar perquè el seu rival, el Figueres, no s'hi va presentar. Així, el conjunt llagostenc guanya el partit per 5 a 0.
URI:https://www.llagosta.cat/actualitat/noticies/la-union-llagostense-acaba-la-lliga-amb-un-sise-lloc-a-la-divisio-dhonor.html
CLASS:PUBLIC
END:VEVENT
END:VCALENDAR
