BEGIN:VCALENDAR
VERSION:2.0
CALSCALE:GREGORIAN
PRODID:-//Diputació de Barcelona//DibaCMS//EN
BEGIN:VEVENT
UID:5032
DTSTAMP:20260422T223826
DTSTART:20120508T000000
DTEND:20130508T000000
SUMMARY:El Parc Popular va acollir durant el cap de setmana una nova edició de la Fira de Sant Ponç
LOCATION:
METHOD:PUBLISH
X-WR-CALNAME:llagosta@llagosta.cat
X-WR-TIMEZONE:Europe/Madrid
DESCRIPTION:El nou format de Fira de Sant Ponç va tenir una acollida acceptable. La fira es va celebrar durant tot el cap de setmana al Parc Popular, estrenant lloc i ampliant els dies de celebració respecte a edicions anteriors.
URI:https://www.llagosta.cat/actualitat/noticies/el-parc-popular-va-acollir-durant-el-cap-de-setmana-una-nova-edicio-de-la-fira-de-sant-ponc.html
CLASS:PUBLIC
END:VEVENT
END:VCALENDAR
