BEGIN:VCALENDAR
VERSION:2.0
CALSCALE:GREGORIAN
PRODID:-//Diputació de Barcelona//DibaCMS//EN
BEGIN:VEVENT
UID:5031
DTSTAMP:20260423T172051
DTSTART:20120508T000000
DTEND:20130508T000000
SUMMARY:L'equip de govern presentarà avui a la ciutadania la proposta de pressupost municipal
LOCATION:
METHOD:PUBLISH
X-WR-CALNAME:llagosta@llagosta.cat
X-WR-TIMEZONE:Europe/Madrid
DESCRIPTION:El Centre Cultural acollirà avui la presentació pública de la proposta de pressupost municipal per a aquest any. L'acte es farà a les vuit del vespre. L'equip de govern vol presentar a tota la ciutadania els números previstos per al 2012. 
URI:https://www.llagosta.cat/actualitat/noticies/lequip-de-govern-presentara-avui-a-la-ciutadania-la-proposta-de-pressupost-municipal.html
CLASS:PUBLIC
END:VEVENT
END:VCALENDAR
