BEGIN:VCALENDAR
VERSION:2.0
CALSCALE:GREGORIAN
PRODID:-//Diputació de Barcelona//DibaCMS//EN
BEGIN:VEVENT
UID:5030
DTSTAMP:20260423T021145
DTSTART:20120508T000000
DTEND:20130508T000000
SUMMARY:Demà, taller per a joves sobre eines per buscar feina durant el proper estiu
LOCATION:
METHOD:PUBLISH
X-WR-CALNAME:llagosta@llagosta.cat
X-WR-TIMEZONE:Europe/Madrid
DESCRIPTION:El Centre Cultural i Juvenil Can Pelegrí acollirà demà un taller orientat a donar eines als joves per buscar feina durant aquest estiu. L'activitat es presenta sota el títol de Vull treballar aquest estiu i començarà a les sis de la tarda.
URI:https://www.llagosta.cat/actualitat/noticies/dema-taller-per-a-joves-sobre-eines-per-buscar-feina-durant-el-proper-estiu.html
CLASS:PUBLIC
END:VEVENT
END:VCALENDAR
